BEGIN:VCALENDAR
VERSION:2.0
PRODID:-//Cetemet - ECPv6.15.12//NONSGML v1.0//EN
CALSCALE:GREGORIAN
METHOD:PUBLISH
X-ORIGINAL-URL:https://cetemet.es
X-WR-CALDESC:Eventos para Cetemet
REFRESH-INTERVAL;VALUE=DURATION:PT1H
X-Robots-Tag:noindex
X-PUBLISHED-TTL:PT1H
BEGIN:VTIMEZONE
TZID:Europe/Madrid
BEGIN:DAYLIGHT
TZOFFSETFROM:+0100
TZOFFSETTO:+0200
TZNAME:CEST
DTSTART:20250330T010000
END:DAYLIGHT
BEGIN:STANDARD
TZOFFSETFROM:+0200
TZOFFSETTO:+0100
TZNAME:CET
DTSTART:20251026T010000
END:STANDARD
BEGIN:DAYLIGHT
TZOFFSETFROM:+0100
TZOFFSETTO:+0200
TZNAME:CEST
DTSTART:20260329T010000
END:DAYLIGHT
BEGIN:STANDARD
TZOFFSETFROM:+0200
TZOFFSETTO:+0100
TZNAME:CET
DTSTART:20261025T010000
END:STANDARD
BEGIN:DAYLIGHT
TZOFFSETFROM:+0100
TZOFFSETTO:+0200
TZNAME:CEST
DTSTART:20270328T010000
END:DAYLIGHT
BEGIN:STANDARD
TZOFFSETFROM:+0200
TZOFFSETTO:+0100
TZNAME:CET
DTSTART:20271031T010000
END:STANDARD
END:VTIMEZONE
BEGIN:VEVENT
DTSTART;TZID=Europe/Madrid:20260319T110000
DTEND;TZID=Europe/Madrid:20260319T120000
DTSTAMP:20260422T151439
CREATED:20260313T081551Z
LAST-MODIFIED:20260313T082141Z
UID:10000131-1773918000-1773921600@cetemet.es
SUMMARY:Seminario sobre IA generativa y RRSS - Santiago / Pontones
DESCRIPTION:El próximo 19 de marzo\, desde nuestra Oficina Acelera pyme de Jaén\, impulsada por Red.es\, celebraremos dos jornadas presenciales centradas en el uso de la IA generativa y las redes sociales en el ámbito empresarial. \nEl objetivo es ofrecer una visión clara\, práctica y útil sobre las principales herramientas de inteligencia artificial disponibles en la actualidad\, sus posibilidades reales de aplicación en pymes y autónomos y las oportunidades que abren para optimizar procesos\, mejorar la comunicación y facilitar la automatización de tareas cotidianas. \n📍 11:00 h | Punto Vuela – Santiago de la Espada\n🔗 Inscripción: aqui \nUna oportunidad para conocer\, desde un enfoque cercano y práctico\, cómo la inteligencia artificial puede convertirse en una aliada real para impulsar la digitalización de negocios y proyectos. \nNos vemos en Santiago de la Espada
URL:https://cetemet.es/evento/seminario-sobre-ia-generativa-y-rrss-santiago-de-la-espada/
LOCATION:Jaén
CATEGORIES:Oficina Acelera PYME - Jaén
ATTACH;FMTTYPE=image/jpeg:https://cetemet.es/wp-content/uploads/2026/03/Jornada-IA-Generativa-y-RRSS_Santiago-de-la-Espada.jpg
END:VEVENT
BEGIN:VEVENT
DTSTART;TZID=Europe/Madrid:20260319T160000
DTEND;TZID=Europe/Madrid:20260319T170000
DTSTAMP:20260422T151439
CREATED:20260313T081742Z
LAST-MODIFIED:20260313T082029Z
UID:10000132-1773936000-1773939600@cetemet.es
SUMMARY:Seminario sobre IA generativa y RRSS - Cortijos Nuevos
DESCRIPTION:El próximo 19 de marzo\, desde nuestra Oficina Acelera pyme de Jaén\, impulsada por Red.es\, celebraremos dos jornadas presenciales centradas en el uso de la IA generativa y las redes sociales en el ámbito empresarial. \nEl objetivo es ofrecer una visión clara\, práctica y útil sobre las principales herramientas de inteligencia artificial disponibles en la actualidad\, sus posibilidades reales de aplicación en pymes y autónomos y las oportunidades que abren para optimizar procesos\, mejorar la comunicación y facilitar la automatización de tareas cotidianas. \n📍 16:00 h | CADE Segura de la Sierra – Cortijos Nuevos\n🔗 Inscripción: aquí \nUna oportunidad para conocer\, desde un enfoque cercano y práctico\, cómo la inteligencia artificial puede convertirse en una aliada real para impulsar la digitalización de negocios y proyectos. \nNos vemos en Cortijos Nuevos.
URL:https://cetemet.es/evento/10573/
LOCATION:Jaén
CATEGORIES:Oficina Acelera PYME - Jaén
ATTACH;FMTTYPE=image/jpeg:https://cetemet.es/wp-content/uploads/2026/03/Jornada-IA-Generativa-y-RRSS_Cortijos-Nuevos-.jpg
END:VEVENT
END:VCALENDAR