BEGIN:VCALENDAR
VERSION:2.0
PRODID:-//Cetemet - ECPv6.15.12//NONSGML v1.0//EN
CALSCALE:GREGORIAN
METHOD:PUBLISH
X-ORIGINAL-URL:https://cetemet.es
X-WR-CALDESC:Eventos para Cetemet
REFRESH-INTERVAL;VALUE=DURATION:PT1H
X-Robots-Tag:noindex
X-PUBLISHED-TTL:PT1H
BEGIN:VTIMEZONE
TZID:Europe/Madrid
BEGIN:DAYLIGHT
TZOFFSETFROM:+0100
TZOFFSETTO:+0200
TZNAME:CEST
DTSTART:20250330T010000
END:DAYLIGHT
BEGIN:STANDARD
TZOFFSETFROM:+0200
TZOFFSETTO:+0100
TZNAME:CET
DTSTART:20251026T010000
END:STANDARD
BEGIN:DAYLIGHT
TZOFFSETFROM:+0100
TZOFFSETTO:+0200
TZNAME:CEST
DTSTART:20260329T010000
END:DAYLIGHT
BEGIN:STANDARD
TZOFFSETFROM:+0200
TZOFFSETTO:+0100
TZNAME:CET
DTSTART:20261025T010000
END:STANDARD
BEGIN:DAYLIGHT
TZOFFSETFROM:+0100
TZOFFSETTO:+0200
TZNAME:CEST
DTSTART:20270328T010000
END:DAYLIGHT
BEGIN:STANDARD
TZOFFSETFROM:+0200
TZOFFSETTO:+0100
TZNAME:CET
DTSTART:20271031T010000
END:STANDARD
END:VTIMEZONE
BEGIN:VEVENT
DTSTART;TZID=Europe/Madrid:20260318T160000
DTEND;TZID=Europe/Madrid:20260318T170000
DTSTAMP:20260422T134856
CREATED:20260312T093612Z
LAST-MODIFIED:20260312T093612Z
UID:10000130-1773849600-1773853200@cetemet.es
SUMMARY:Seminario sobre facturación electrónica
DESCRIPTION:La próxima semana celebramos en Jódar el seminario “Facturación electrónica”\, una jornada presencial organizada por nuestra Oficina Acelera pyme en Jaén\, iniciativa impulsada por Red.es\, en colaboración con el CADE de Jódar (Andalucía Emprende\, Fundación Pública Andaluza). \nEn un entorno cada vez más digital\, resulta clave que autónomos\, emprendedores y empresas conozcan las herramientas\, ayudas y obligaciones que pueden ayudarles a mejorar su productividad y competitividad. \nDurante la sesión abordaremos la situación actual de la facturación electrónica\, el sistema VERIFACTU\, las ayudas a la digitalización y el programa Kit Espacio de Datos\, además de contar con la participación del agente digitalizador Cinco Grados Oeste\, que presentará un programa de gestión ERP con demostración práctica\, incluida la gestión de facturación electrónica. \n📅 18 de marzo de 2026\n🕓 16:00 h\n📍 Punto Vuela Jódar\, Calle Joaquín Galván 1\, 23500 – Jódar (Jaén) \nInscripción:https://lnkd.in/eCb55AM9 \n¡Os esperamos allí!
URL:https://cetemet.es/evento/seminario-sobre-facturacion-electronica/
LOCATION:Jaén
CATEGORIES:Oficina Acelera PYME - Jaén
ATTACH;FMTTYPE=image/jpeg:https://cetemet.es/wp-content/uploads/2026/03/Jornada_Jodar_Andalucia-Emprende-facturacion-Electronica_JODAR.jpg
END:VEVENT
END:VCALENDAR