BEGIN:VCALENDAR
VERSION:2.0
PRODID:-//Cetemet - ECPv6.15.12//NONSGML v1.0//EN
CALSCALE:GREGORIAN
METHOD:PUBLISH
X-WR-CALNAME:Cetemet
X-ORIGINAL-URL:https://cetemet.es
X-WR-CALDESC:Eventos para Cetemet
REFRESH-INTERVAL;VALUE=DURATION:PT1H
X-Robots-Tag:noindex
X-PUBLISHED-TTL:PT1H
BEGIN:VTIMEZONE
TZID:Europe/Madrid
BEGIN:DAYLIGHT
TZOFFSETFROM:+0100
TZOFFSETTO:+0200
TZNAME:CEST
DTSTART:20250330T010000
END:DAYLIGHT
BEGIN:STANDARD
TZOFFSETFROM:+0200
TZOFFSETTO:+0100
TZNAME:CET
DTSTART:20251026T010000
END:STANDARD
BEGIN:DAYLIGHT
TZOFFSETFROM:+0100
TZOFFSETTO:+0200
TZNAME:CEST
DTSTART:20260329T010000
END:DAYLIGHT
BEGIN:STANDARD
TZOFFSETFROM:+0200
TZOFFSETTO:+0100
TZNAME:CET
DTSTART:20261025T010000
END:STANDARD
BEGIN:DAYLIGHT
TZOFFSETFROM:+0100
TZOFFSETTO:+0200
TZNAME:CEST
DTSTART:20270328T010000
END:DAYLIGHT
BEGIN:STANDARD
TZOFFSETFROM:+0200
TZOFFSETTO:+0100
TZNAME:CET
DTSTART:20271031T010000
END:STANDARD
END:VTIMEZONE
BEGIN:VEVENT
DTSTART;TZID=Europe/Madrid:20260316T090000
DTEND;TZID=Europe/Madrid:20260316T100000
DTSTAMP:20260422T103344
CREATED:20260227T113749Z
LAST-MODIFIED:20260227T113852Z
UID:10000126-1773651600-1773655200@cetemet.es
SUMMARY:Cómo aplicar la IA para ayudar a tu comercio
DESCRIPTION:En un entorno cada vez más orientado a lo digital\, resulta fundamental que tanto autónomos\, emprendedores y empresarios aprovechen las oportunidades tecnológicas para potenciar su productividad e impulsar la competitividad. \nEn esta jornada\, organizada por la Oficina Acelera Pyme Jaén CETEMET\, se informará de la nueva oficina Acelera Pyme con ámbito provincial y se informará de la importancia de estas para impulsar la transformación digital de las empresas\, autónomos y emprendedores jiennenses\, e informar de las actividades que estamos planificando para los próximos 2 años\, así como dar a conocer el Programa Kit Espacio de Datos\, promovido por Red.es \nDetalles del evento: \nFecha: ​16 de marzo de 2026 \nHora:​​09:00 horas \nFormato:​Presencial (Duración estimada 1.5 hora) \nLugar: ​Biblioteca Municipal – Punto Vuela. \n​Calle Refugio\, s/n \n​23620 – La Carolina (Jaén) \nEnlace Inscripción \n 
URL:https://cetemet.es/evento/como-aplicar-la-ia-para-ayudar-a-tu-comercio/
LOCATION:Jaén
CATEGORIES:Oficina Acelera PYME - Jaén
ATTACH;FMTTYPE=image/png:https://cetemet.es/wp-content/uploads/2026/02/16032026-Jornada-IA-La-Carolina-1.png
END:VEVENT
END:VCALENDAR